BEGIN:VCALENDAR
VERSION:2.0
PRODID:-//Bella and Sunshine Rescue, Inc. - ECPv6.9.0//NONSGML v1.0//EN
CALSCALE:GREGORIAN
METHOD:PUBLISH
X-WR-CALNAME:Bella and Sunshine Rescue, Inc.
X-ORIGINAL-URL:https://bellaandsunshinerescue.org
X-WR-CALDESC:Events for Bella and Sunshine Rescue, Inc.
REFRESH-INTERVAL;VALUE=DURATION:PT1H
X-Robots-Tag:noindex
X-PUBLISHED-TTL:PT1H
BEGIN:VTIMEZONE
TZID:UTC
BEGIN:STANDARD
TZOFFSETFROM:+0000
TZOFFSETTO:+0000
TZNAME:UTC
DTSTART:20180101T000000
END:STANDARD
END:VTIMEZONE
BEGIN:VEVENT
DTSTART;TZID=UTC:20180921T180000
DTEND;TZID=UTC:20191231T210000
DTSTAMP:20260419T180205
CREATED:20150114T180933Z
LAST-MODIFIED:20150114T180933Z
UID:1643-1537552800-1577826000@bellaandsunshinerescue.org
SUMMARY:Meet & Greet Adoption Event
DESCRIPTION:At vero eos et accusamus et iusto odio dignissimos ducimus qui blanditiis praesentium voluptatum deleniti atque corrupti quos dolores et quas molestias excepturi sint occaecati cupiditate non provident\, similique sunt in culpa qui officia deserunt mollitia animi\, id est laborum et dolorum fuga. Et harum quidem rerum facilis est et expedita distinctio. Nam libero tempore\, cum soluta nobis est eligendi optio cumque nihil impedit quo minus id quod maxime placeat facere possimus\, omnis voluptas assumenda est\, omnis dolor repellendus. Temporibus autem quibusdam et aut officiis debitis aut rerum necessitatibus saepe eveniet ut et voluptates repudiandae sint et molestiae non recusandae.
URL:https://bellaandsunshinerescue.org/event/meet-greet-adoption-event/
LOCATION:Saint Louis Zoo\, 1 Government Drive\, St. Louis\, MO\, MO 63110\, United States
CATEGORIES:Adoption,Charity,Meeting
ATTACH;FMTTYPE=image/jpeg:https://bellaandsunshinerescue.org/wp-content/uploads/2015/01/05.jpg
ORGANIZER;CN="PetRescue Volunteers Team":MAILTO:pet-rescue-team@gmail.com
END:VEVENT
BEGIN:VEVENT
DTSTART;TZID=UTC:20180920T080000
DTEND;TZID=UTC:20191231T200000
DTSTAMP:20260419T180205
CREATED:20150114T190417Z
LAST-MODIFIED:20150114T190417Z
UID:1861-1537430400-1577822400@bellaandsunshinerescue.org
SUMMARY:Adopt One. Help Thousands
DESCRIPTION:At vero eos et accusamus et iusto odio dignissimos ducimus qui blanditiis praesentium voluptatum deleniti atque corrupti quos dolores et quas molestias excepturi sint occaecati cupiditate non provident\, similique sunt in culpa qui officia deserunt mollitia animi\, id est laborum et dolorum fuga. Et harum quidem rerum facilis est et expedita distinctio. \nNam libero tempore\, cum soluta nobis est eligendi optio cumque nihil impedit quo minus id quod maxime placeat facere possimus\, omnis voluptas assumenda est\, omnis dolor repellendus. Temporibus autem quibusdam et aut officiis debitis aut rerum necessitatibus saepe eveniet ut et voluptates repudiandae sint et molestiae non recusandae. \nAt vero eos et accusamus et iusto odio dignissimos ducimus qui blanditiis praesentium voluptatum deleniti atque corrupti quos dolores et quas molestias excepturi sint occaecati cupiditate non provident\, similique sunt in culpa qui officia deserunt mollitia animi\, id est laborum et dolorum fuga. Et harum quidem rerum facilis est et expedita distinctio. Nam libero tempore\, cum soluta nobis est eligendi optio cumque nihil impedit quo minus id quod maxime placeat facere possimus\, omnis voluptas assumenda est\, omnis dolor repellendus. Temporibus autem quibusdam et aut officiis debitis aut rerum necessitatibus saepe eveniet ut et voluptates repudiandae sint et molestiae non recusandae.
URL:https://bellaandsunshinerescue.org/event/adopt-one-help-thousands/
LOCATION:Humane Society of Utah\, 4242 South 300 West Murray\, Salt Lake City\, UT\, UT 84107\, United States
CATEGORIES:Adoption,Charity
ATTACH;FMTTYPE=image/jpeg:https://bellaandsunshinerescue.org/wp-content/uploads/2015/01/04.jpg
END:VEVENT
BEGIN:VEVENT
DTSTART;TZID=UTC:20180918T110000
DTEND;TZID=UTC:20191231T200000
DTSTAMP:20260419T180205
CREATED:20150114T173149Z
LAST-MODIFIED:20150114T173149Z
UID:1594-1537268400-1577822400@bellaandsunshinerescue.org
SUMMARY:Kitten Adoption Days
DESCRIPTION:At vero eos et accusamus et iusto odio dignissimos ducimus qui blanditiis praesentium voluptatum deleniti atque corrupti quos dolores et quas molestias excepturi sint occaecati cupiditate non provident\, similique sunt in culpa qui officia deserunt mollitia animi\, id est laborum et dolorum fuga. Et harum quidem rerum facilis est et expedita distinctio. Nam libero tempore\, cum soluta nobis est eligendi optio cumque nihil impedit quo minus id quod maxime placeat facere possimus\, omnis voluptas assumenda est\, omnis dolor repellendus. Temporibus autem quibusdam et aut officiis debitis aut rerum necessitatibus saepe eveniet ut et voluptates repudiandae sint et molestiae non recusandae.
URL:https://bellaandsunshinerescue.org/event/dogs-meeting/
LOCATION:North Hill Elementary School\, 1910 East Agency Street\, Burlington\, IA\, IA 52601\, United States
CATEGORIES:Adoption,Exhibition
ATTACH;FMTTYPE=image/jpeg:https://bellaandsunshinerescue.org/wp-content/uploads/2015/01/03.jpg
END:VEVENT
END:VCALENDAR